BEGIN:VCALENDAR
VERSION:2.0
PRODID:-//3nity.com//3nity CMS//EN
BEGIN:VEVENT
SUMMARY:Hymn-A-Rama!
UID:2026-07-18-1216251@www.womacktemple.org
SEQUENCE:0
STATUS:CONFIRMED
DTSTART:20260517T143000
DTEND:20260517T163000
DTSTAMP:20161222T120000
DESCRIPTION:Come learn the story behind your favorite hymns!
URL:http://www.womacktemple.org
END:VEVENT
END:VCALENDAR
